BEGIN:VCALENDAR
VERSION:2.0
PRODID:-//krabbelICH - ECPv4.9.13//NONSGML v1.0//EN
CALSCALE:GREGORIAN
METHOD:PUBLISH
X-WR-CALNAME:krabbelICH
X-ORIGINAL-URL:https://www.krabbelich.de
X-WR-CALDESC:Veranstaltungen im krabbelICH
BEGIN:VTIMEZONE
TZID:Europe/Berlin
BEGIN:DAYLIGHT
TZOFFSETFROM:+0100
TZOFFSETTO:+0200
TZNAME:CEST
DTSTART:20240331T010000
END:DAYLIGHT
BEGIN:STANDARD
TZOFFSETFROM:+0200
TZOFFSETTO:+0100
TZNAME:CET
DTSTART:20241027T010000
END:STANDARD
END:VTIMEZONE
BEGIN:VEVENT
DTSTART;TZID=Europe/Berlin:20240704T170000
DTEND;TZID=Europe/Berlin:20240704T174500
DTSTAMP:20260420T160047
CREATED:20240605T083221Z
LAST-MODIFIED:20240625T185955Z
UID:2306-1720112400-1720115100@www.krabbelich.de
SUMMARY:Kinderyoga - Schnupperstunde Grundschulkids
DESCRIPTION:teilen teilen twittern Zielgruppe\nKinder zwischen 6 und 9 Jahren\nKursablauf\n4. Juli 17:00 &#8211; 17:45 Uhr\nPreis\nkostenfrei\nKonzept\n\nLasst uns gemeinsam die Welt des Kinderyoga kennenlernen und nehmt euch einen bunten StrauÃŸ an MÃ¶glichkeiten zur Entspannung mit. Gemeinsam werden wir Asanas\, AtemÃ¼bungen\, aber auch Spiele und AchtsamkeitsÃ¼bungen kennenlernen und ausprobieren.\nIn einer Welt\, die immer schneller und lauter wird\, ist es mir ein Herzenswunsch\, Kindern Ruhe und Achtsamkeit zeigen zu dÃ¼rfen.\nIch freue mich sehr auf euch und die gemeinsame Zeit!\n\n\n\n\nAnmeldung\n\n\n\n\n\n\n\n\n\n\n\n\n\n\n\n\nDein Name & Kontakt \n \n  \n \nDeine Adresse \n \n \n \nAlter des teilnehmenden Kindes (benÃ¶tigt)\n\n  \n\n\n\n\n\nggf. Gutscheinnummer / Familienpass Ilm-Kreis\n \nIch bin damit einverstanden\, dass meine eingegebenen personenbezogenen Daten zum Zwecke der Veranstaltungsorganisation und Identifizierung verschlÃ¼sselt an krabbelICH Ã¼bertragen und bis zu den jeweiligen gesetzlichen Aufbewahrungsfristen gespeichert werden. Hinweis: Sie kÃ¶nnen Ihre Einwilligung jederzeit fÃ¼r die Zukunft per E-Mail an info@krabbelich.de widerrufen. Detaillierte Informationen zum Umgang mit Nutzerdaten finden Sie in unserer DatenschutzerklÃ¤rung. Durch die Anmeldung erklÃ¤re ich mich mit den Allgemeinen GeschÃ¤ftsbedingungen einverstanden. \n \n\n\n
URL:https://www.krabbelich.de/event/kinderyoga-schnupperstunde-2/
LOCATION:krabbelICH\, FeldstraÃŸe 7\, Amt Wachsenburg\, ThÃ¼ringen\, 99334\, Deutschland
CATEGORIES:FÃ¼r die GroÃŸen,fÃ¼r die Kids,Yoga
ATTACH;FMTTYPE=image/jpeg:https://www.krabbelich.de/wp-content/uploads/2024/06/pexels-yankrukov-8613312-scaled-e1717576083134.jpg
ORGANIZER;CN="krabbellCH":MAILTO:info@krabbelich.de
END:VEVENT
END:VCALENDAR