BEGIN:VCALENDAR
VERSION:2.0
PRODID:-//krabbelICH - ECPv4.9.13//NONSGML v1.0//EN
CALSCALE:GREGORIAN
METHOD:PUBLISH
X-WR-CALNAME:krabbelICH
X-ORIGINAL-URL:https://www.krabbelich.de
X-WR-CALDESC:Veranstaltungen im krabbelICH
BEGIN:VTIMEZONE
TZID:Europe/Berlin
BEGIN:DAYLIGHT
TZOFFSETFROM:+0100
TZOFFSETTO:+0200
TZNAME:CEST
DTSTART:20220327T010000
END:DAYLIGHT
BEGIN:STANDARD
TZOFFSETFROM:+0200
TZOFFSETTO:+0100
TZNAME:CET
DTSTART:20221030T010000
END:STANDARD
END:VTIMEZONE
BEGIN:VEVENT
DTSTART;TZID=Europe/Berlin:20221005T140000
DTEND;TZID=Europe/Berlin:20221005T153000
DTSTAMP:20260420T172910
CREATED:20220531T052725Z
LAST-MODIFIED:20220531T052725Z
UID:1284-1664978400-1664983800@www.krabbelich.de
SUMMARY:BeikostInfoKurs
DESCRIPTION:teilen teilen twittern Zielgruppe\nMama oder Papa \nKursablauf\nKurstermin: 5. Oktober 2022 von 13:00 &#8211; 14:30 Uhr\nPreis\n25 â‚¬ inkl. Handout \nKonzept\nBeikost â€“ ein groĂźes Thema\, welches viele Fragen aufwirft. Was ist der richtige Anfangsbrei? Wann soll ich damit anfangen? Selbst kochen oder GlĂ¤schen kaufen? Was muss dabei beachtet werden? Und was ist eigentlich BLW? In unserem BeikostInfoKurs bekommst du von uns alle notwendigen Informationen rund um das Thema Beikost\, um dein Baby sicher und entspannt bei seinem nĂ¤chsten Entwicklungsschritt begleiten zu kĂ¶nnen. \nAnmeldung\n\n\n\n\n\n\n\n\n\n\n\n\n\n\n\n\nDein Name & Kontakt \n \n  \n \nDeine Adresse \n \n \n \n\n\n\n\n\nggf. Gutscheinnummer / Familienpass Ilm-Kreis\n \nIch bin damit einverstanden\, dass meine eingegebenen personenbezogenen Daten zum Zwecke der Veranstaltungsorganisation und Identifizierung verschlĂĽsselt an krabbelICH ĂĽbertragen und bis zu den jeweiligen gesetzlichen Aufbewahrungsfristen gespeichert werden. Hinweis: Sie kĂ¶nnen Ihre Einwilligung jederzeit fĂĽr die Zukunft per E-Mail an info@krabbelich.de widerrufen. Detaillierte Informationen zum Umgang mit Nutzerdaten finden Sie in unserer DatenschutzerklĂ¤rung. Durch die Anmeldung erklĂ¤re ich mich mit den Allgemeinen GeschĂ¤ftsbedingungen einverstanden. \n \n\n
URL:https://www.krabbelich.de/event/beikostinfokurs-2/
LOCATION:krabbelICH\, FeldstraĂźe 7\, Amt Wachsenburg\, ThĂĽringen\, 99334\, Deutschland
CATEGORIES:BeikostInfoKurs,Eltern unter sich,Info & Tipps
ATTACH;FMTTYPE=image/jpeg:https://www.krabbelich.de/wp-content/uploads/2021/01/avocado-1476494_640.jpg
ORGANIZER;CN="krabbellCH":MAILTO:info@krabbelich.de
END:VEVENT
END:VCALENDAR