BEGIN:VCALENDAR
VERSION:2.0
PRODID:-//krabbelICH - ECPv4.9.13//NONSGML v1.0//EN
CALSCALE:GREGORIAN
METHOD:PUBLISH
X-WR-CALNAME:krabbelICH
X-ORIGINAL-URL:https://www.krabbelich.de
X-WR-CALDESC:Veranstaltungen im krabbelICH
BEGIN:VTIMEZONE
TZID:Europe/Berlin
BEGIN:DAYLIGHT
TZOFFSETFROM:+0100
TZOFFSETTO:+0200
TZNAME:CEST
DTSTART:20230326T010000
END:DAYLIGHT
BEGIN:STANDARD
TZOFFSETFROM:+0200
TZOFFSETTO:+0100
TZNAME:CET
DTSTART:20231029T010000
END:STANDARD
END:VTIMEZONE
BEGIN:VEVENT
DTSTART;TZID=Europe/Berlin:20231025T090000
DTEND;TZID=Europe/Berlin:20231025T094500
DTSTAMP:20260424T115644
CREATED:20230718T105907Z
LAST-MODIFIED:20231002T074737Z
UID:1913-1698224400-1698227100@www.krabbelich.de
SUMMARY:BabyZeit im krabbelICH
DESCRIPTION:teilen teilen twittern Zielgruppe\nBabys zwischen 5 und 8 Monaten \nKursablauf\nKursbeginn: 25. Oktober 2023\nKurstermine: jeden Mittwoch 09:00 bis 09:45 Uhr Ã¼ber insgesamt 5 Kurseinheiten\nPreis\n45 â‚¬ fÃ¼r den kompletten Kurs \nKonzept\nEuch fÃ¤llt zu Hause die Decke auf den Kopf und ihr sucht den Kontakt zu anderen Mamas & Papas? Dann seid ihr hier herzlich Willkommen! Unser BabyTreff ist ein Ort zum austauschen\, informieren\, abschalten\, ablenken und kennenlernen. Ihr kÃ¶nnt miteinander ins GesprÃ¤ch kommen und die Kleinen kÃ¶nnen erste Kontakte zu anderen Babies knÃ¼pfen. \n  \nAnmeldung\n\n\n\n\n\n\n\n\n\n\n\n\n\n\n\n\nDein Name & Kontakt \n \n  \n \nDeine Adresse \n \n \n \nAlter des teilnehmenden Kindes (benÃ¶tigt)\n\n  \n\n\n\n\n\nggf. Gutscheinnummer / Familienpass Ilm-Kreis\n \nIch bin damit einverstanden\, dass meine eingegebenen personenbezogenen Daten zum Zwecke der Veranstaltungsorganisation und Identifizierung verschlÃ¼sselt an krabbelICH Ã¼bertragen und bis zu den jeweiligen gesetzlichen Aufbewahrungsfristen gespeichert werden. Hinweis: Sie kÃ¶nnen Ihre Einwilligung jederzeit fÃ¼r die Zukunft per E-Mail an info@krabbelich.de widerrufen. Detaillierte Informationen zum Umgang mit Nutzerdaten finden Sie in unserer DatenschutzerklÃ¤rung. Durch die Anmeldung erklÃ¤re ich mich mit den Allgemeinen GeschÃ¤ftsbedingungen einverstanden. \n \n\n
URL:https://www.krabbelich.de/event/babyzeit-im-krabbelich/
LOCATION:krabbelICH\, FeldstraÃŸe 7\, Amt Wachsenburg\, ThÃ¼ringen\, 99334\, Deutschland
CATEGORIES:BabyTreff,Info & Tipps
ATTACH;FMTTYPE=image/jpeg:https://www.krabbelich.de/wp-content/uploads/2023/07/pexels-polina-tankilevitch-3875217-e1689677916252.jpg
ORGANIZER;CN="krabbellCH":MAILTO:info@krabbelich.de
END:VEVENT
END:VCALENDAR